BEGIN:VCALENDAR
VERSION:2.0
PRODID:-//Group Meditation Event - ECPv6.15.20//NONSGML v1.0//EN
CALSCALE:GREGORIAN
METHOD:PUBLISH
X-ORIGINAL-URL:https://groupmeditationevent.com
X-WR-CALDESC:Events for Group Meditation Event
REFRESH-INTERVAL;VALUE=DURATION:PT1H
X-Robots-Tag:noindex
X-PUBLISHED-TTL:PT1H
BEGIN:VTIMEZONE
TZID:America/Los_Angeles
BEGIN:DAYLIGHT
TZOFFSETFROM:-0800
TZOFFSETTO:-0700
TZNAME:PDT
DTSTART:20230312T100000
END:DAYLIGHT
BEGIN:STANDARD
TZOFFSETFROM:-0700
TZOFFSETTO:-0800
TZNAME:PST
DTSTART:20231105T090000
END:STANDARD
BEGIN:DAYLIGHT
TZOFFSETFROM:-0800
TZOFFSETTO:-0700
TZNAME:PDT
DTSTART:20240310T100000
END:DAYLIGHT
BEGIN:STANDARD
TZOFFSETFROM:-0700
TZOFFSETTO:-0800
TZNAME:PST
DTSTART:20241103T090000
END:STANDARD
BEGIN:DAYLIGHT
TZOFFSETFROM:-0800
TZOFFSETTO:-0700
TZNAME:PDT
DTSTART:20250309T100000
END:DAYLIGHT
BEGIN:STANDARD
TZOFFSETFROM:-0700
TZOFFSETTO:-0800
TZNAME:PST
DTSTART:20251102T090000
END:STANDARD
END:VTIMEZONE
BEGIN:VEVENT
DTSTART;TZID=America/Los_Angeles:20240630T200000
DTEND;TZID=America/Los_Angeles:20240630T210000
DTSTAMP:20260423T020350
CREATED:20240607T200915Z
LAST-MODIFIED:20240607T200926Z
UID:2109-1719777600-1719781200@groupmeditationevent.com
SUMMARY:Sunday Satsang | Guided Meditation
DESCRIPTION:Sunday Satsang: Guided Meditation and Community Discourse\n*This Meditation will be held outdoors at CTU\, at Magnuson Park Seattle*\nPlatform: FSP YouTube Channel– Join Peter of Full Spectrum Performance (FSP) for a weekly Sunday Satsang—a free gathering for spiritual discourse and meditation.\n\n  \n\nThese meditations and gatherings are truly life-changing and transformative\, bringing a sense of calm\, nourishment\, revitalization\, and restoration. A satsang is a spiritual discourse\, a sacred gathering founded upon exploring our inner truths and tapping into the Vital Energies of our Universe\, the Source of All. During our livestream\, any and all questions will be answered and explored. Please leave them in the chat or comments to be addressed in today’s or future satsangs. \nFeel free to email any questions ahead of time to: palucas@fsperformance.com \nThank you for watching\, participating\, and viewing this satsang service! I hope it has helped you gain a deeper understanding of yourself\, the universe\, and life\, while deepening your connection to Source and your Soul. \nIf you liked this video\, be sure to give it a Like and leave a Comment. Please Subscribe and Share! \nSatsang services will be held every Sunday.  \n\nGuided Meditation– Embark on a journey of inner exploration with a guided meditation led by Peter.\nConnect Worldwide– Connect with meditators from around the globe as we unite in consciousness.\nFree on YouTube– Join us on our FSP YouTube Channel every Sunday\n\nCome\, explore truth and unite with seekers worldwide for a relaxing way to start and end your day. \nSubscribe to get notified of future Satsangs. \nCheck Out the Latest Guided Meditation
URL:https://groupmeditationevent.com/event/sunday-satsang-guided-meditation-june-4/
CATEGORIES:Group Meditation Event,Live Workshop,Online Class,Social Gathering,Yoga Practice
ATTACH;FMTTYPE=image/png:https://groupmeditationevent.com/wp-content/uploads/2024/06/1-Spring24_Sunday_f.png
END:VEVENT
BEGIN:VEVENT
DTSTART;TZID=America/Los_Angeles:20240630T120000
DTEND;TZID=America/Los_Angeles:20240630T200000
DTSTAMP:20260423T020350
CREATED:20240212T195507Z
LAST-MODIFIED:20240607T201011Z
UID:1805-1719748800-1719777600@groupmeditationevent.com
SUMMARY:Community Through Unity Summer Hangout
DESCRIPTION:Community Through Unity Summer Hangouts & Flow in the Forest\nSummer Schedule:\nJune 30- CTU – Magnuson Park\nJuly 28 – CTU – TBD We’ll put up a poll in our July newsletter\nAugust 18 – Flow in the Forest – Greenlake\, Woodland Park \nAugust 25 – CTU – We’ll put up a poll in our August newsletter \nTime: 12:00 – 8:00 PM\n \nJoin us this summer for a series of relaxed\, community-focused gatherings at local beaches and parks. CTU is all about fostering connections and enjoying simple pleasures. This season\, we’re scaling down to offer intimate pop-up events featuring open mic sessions\, community jams\, and casual hangouts. \nCome and play—think of it as a community field day with activities like a potluck\, painting\, dancing\, and more. Enjoy live local music\, participate in spontaneous performances\, and connect with your neighbors. Vendors are welcome to join our pop-up market to bring more awareness to different communities. Let’s melt the Seattle Freeze together\, one gathering at a time. \nMark your calendars for our grand celebration\, Flow in the Forest\, on August 18th. This end-of-summer wellness and music festival will feature yoga\, wellness talks\, workshops\, live music\, ecstatic dance\, live painting\, acrobatics\, sauna\, cold plunge\, and much more. Join us as we close out the season with a vibrant celebration of community and well-being. \n \n\nENTRY FEE\nCTU and Flow in the Forest are FREE to attend and operates on donations\, so anything is greatly appreciated.\nIf you’re unable to attend but would like to support we’re currently accepting donations via Venmo @FSP206 [ #2273 if applicable] anytime now and leading up to the event.\nAll donations help pay musicians and current/future event production costs.\nPlease RSVP above if you plan on attending in any capacity. It greatly assists our vendors with their services and offerings preparations.\n\nGET INVOLVED\nIf you would like to Get Involved or Learn More: CONTACT US.\n\nAny and all Support is greatly appreciated.
URL:https://groupmeditationevent.com/event/community-through-unity-rsvp-2/
CATEGORIES:Community Through Unity,Ecstatic Dance,Group Meditation Event,Live Workshop,Musical Event,Pop Up Event,Social Gathering,Yoga Practice
ATTACH;FMTTYPE=image/jpeg:https://groupmeditationevent.com/wp-content/uploads/2024/02/CommunityThrough-Unity-Banner-1.jpg
ORGANIZER;CN="Peter Lucas":MAILTO:GroupMeditationEvent@gmail.com
END:VEVENT
BEGIN:VEVENT
DTSTART;TZID=America/Los_Angeles:20240623T080000
DTEND;TZID=America/Los_Angeles:20240623T090000
DTSTAMP:20260423T020350
CREATED:20240607T194835Z
LAST-MODIFIED:20240607T194835Z
UID:2105-1719129600-1719133200@groupmeditationevent.com
SUMMARY:Sunday Satsang | Guided Meditation
DESCRIPTION:Sunday Satsang: Guided Meditation and Community Discourse\nPlatform: FSP YouTube Channel– Join Peter of Full Spectrum Performance (FSP) for a weekly Sunday Satsang—a free gathering for spiritual discourse and meditation.\n\n  \n\nThese meditations and gatherings are truly life-changing and transformative\, bringing a sense of calm\, nourishment\, revitalization\, and restoration. A satsang is a spiritual discourse\, a sacred gathering founded upon exploring our inner truths and tapping into the Vital Energies of our Universe\, the Source of All. During our livestream\, any and all questions will be answered and explored. Please leave them in the chat or comments to be addressed in today’s or future satsangs. \nFeel free to email any questions ahead of time to: palucas@fsperformance.com \nThank you for watching\, participating\, and viewing this satsang service! I hope it has helped you gain a deeper understanding of yourself\, the universe\, and life\, while deepening your connection to Source and your Soul. \nIf you liked this video\, be sure to give it a Like and leave a Comment. Please Subscribe and Share! \nSatsang services will be held every Sunday.  \n\nGuided Meditation– Embark on a journey of inner exploration with a guided meditation led by Peter.\nConnect Worldwide– Connect with meditators from around the globe as we unite in consciousness.\nFree on YouTube– Join us on our FSP YouTube Channel every Sunday\n\nCome\, explore truth and unite with seekers worldwide for a relaxing way to start and end your day. \nSubscribe to get notified of future Satsangs. \nCheck Out the Latest Guided Meditation
URL:https://groupmeditationevent.com/event/sunday-satsang-guided-meditation-june-3/
CATEGORIES:Group Meditation Event,Live Workshop,Online Class,Social Gathering,Yoga Practice
ATTACH;FMTTYPE=image/png:https://groupmeditationevent.com/wp-content/uploads/2024/06/1-Spring24_Sunday_f.png
END:VEVENT
BEGIN:VEVENT
DTSTART;TZID=America/Los_Angeles:20240616T200000
DTEND;TZID=America/Los_Angeles:20240616T210000
DTSTAMP:20260423T020350
CREATED:20240607T194548Z
LAST-MODIFIED:20240607T194548Z
UID:2103-1718568000-1718571600@groupmeditationevent.com
SUMMARY:Sunday Satsang | Guided Meditation
DESCRIPTION:Sunday Satsang: Guided Meditation and Community Discourse\nPlatform: FSP YouTube Channel– Join Peter of Full Spectrum Performance (FSP) for a weekly Sunday Satsang—a free gathering for spiritual discourse and meditation.\n\n  \n\nThese meditations and gatherings are truly life-changing and transformative\, bringing a sense of calm\, nourishment\, revitalization\, and restoration. A satsang is a spiritual discourse\, a sacred gathering founded upon exploring our inner truths and tapping into the Vital Energies of our Universe\, the Source of All. During our livestream\, any and all questions will be answered and explored. Please leave them in the chat or comments to be addressed in today’s or future satsangs. \nFeel free to email any questions ahead of time to: palucas@fsperformance.com \nThank you for watching\, participating\, and viewing this satsang service! I hope it has helped you gain a deeper understanding of yourself\, the universe\, and life\, while deepening your connection to Source and your Soul. \nIf you liked this video\, be sure to give it a Like and leave a Comment. Please Subscribe and Share! \nSatsang services will be held every Sunday.  \n\nGuided Meditation– Embark on a journey of inner exploration with a guided meditation led by Peter.\nConnect Worldwide– Connect with meditators from around the globe as we unite in consciousness.\nFree on YouTube– Join us on our FSP YouTube Channel every Sunday\n\nCome\, explore truth and unite with seekers worldwide for a relaxing way to start and end your day. \nSubscribe to get notified of future Satsangs. \nCheck Out the Latest Guided Meditation
URL:https://groupmeditationevent.com/event/sunday-satsang-guided-meditation-2-2/
CATEGORIES:Group Meditation Event,Live Workshop,Online Class,Social Gathering,Yoga Practice
ATTACH;FMTTYPE=image/png:https://groupmeditationevent.com/wp-content/uploads/2024/06/1-Spring24_Sunday_f.png
END:VEVENT
BEGIN:VEVENT
DTSTART;TZID=America/Los_Angeles:20240609T080000
DTEND;TZID=America/Los_Angeles:20240609T090000
DTSTAMP:20260423T020350
CREATED:20240606T214903Z
LAST-MODIFIED:20240606T214903Z
UID:2067-1717920000-1717923600@groupmeditationevent.com
SUMMARY:Sunday Satsang | Guided Meditation
DESCRIPTION:Sunday Satsang: Guided Meditation and Community Discourse\nPlatform: FSP YouTube Channel– Join Peter of Full Spectrum Performance (FSP) for a weekly Sunday Satsang—a free gathering for spiritual discourse and meditation.\n\n  \n\nThese meditations and gatherings are truly life-changing and transformative\, bringing a sense of calm\, nourishment\, revitalization\, and restoration. A satsang is a spiritual discourse\, a sacred gathering founded upon exploring our inner truths and tapping into the Vital Energies of our Universe\, the Source of All. During our livestream\, any and all questions will be answered and explored. Please leave them in the chat or comments to be addressed in today’s or future satsangs. \nFeel free to email any questions ahead of time to: palucas@fsperformance.com \nThank you for watching\, participating\, and viewing this satsang service! I hope it has helped you gain a deeper understanding of yourself\, the universe\, and life\, while deepening your connection to Source and your Soul. \nIf you liked this video\, be sure to give it a Like and leave a Comment. Please Subscribe and Share! \nSatsang services will be held every Sunday.  \n\nGuided Meditation– Embark on a journey of inner exploration with a guided meditation led by Peter.\nConnect Worldwide– Connect with meditators from around the globe as we unite in consciousness.\nFree on YouTube– Join us on our FSP YouTube Channel every Sunday\n\nCome\, explore truth and unite with seekers worldwide for a relaxing way to start and end your day. \nSubscribe to get notified of future Satsangs. \nCheck Out the Latest Guided Meditation
URL:https://groupmeditationevent.com/event/sunday-satsang-guided-meditation-2/
CATEGORIES:Group Meditation Event,Live Workshop,Online Class,Social Gathering,Yoga Practice
ATTACH;FMTTYPE=image/png:https://groupmeditationevent.com/wp-content/uploads/2024/06/1-Spring24_Sunday_f.png
END:VEVENT
BEGIN:VEVENT
DTSTART;TZID=America/Los_Angeles:20240310T080000
DTEND;TZID=America/Los_Angeles:20240310T084000
DTSTAMP:20260423T020350
CREATED:20240303T234234Z
LAST-MODIFIED:20240305T005211Z
UID:1960-1710057600-1710060000@groupmeditationevent.com
SUMMARY:Sunday Satsang | Guided Meditation
DESCRIPTION:Sunday Satsang: Guided Meditation and Community Discourse\nPlatform: FSP YouTube Channel– Join Peter of Full Spectrum Performance (FSP) for a weekly Sunday Satsang—a free gathering for spiritual discourse and meditation.\n\n  \n\nWHAT IS SATSANG\nJoin us for Satsang\, a sacred gathering founded upon the exploration of inner truths and the essence of existence.\nDerived from the Sanskrit term meaning “association with truth\,” Satsang transcends mere discourse; it is an opportunity to commune with the essence of reality itself. \nDuring our livestream\, we delve into spiritual truths\, contemplate the mysteries of existence\, and seek to tap into the boundless vitality that permeates the universe. \nWhether you’re seeking answers or simply yearning to deepen your understanding\, all questions are welcome. \nFeel free to share your inquiries in the chat or comments\, and they will be addressed in future Satsang sessions.\nFor those who prefer to send questions ahead of time\, please email them to: palucas@fsperformance.com \n  \n\nGuided Meditation– Embark on a journey of inner exploration with a guided meditation led by Peter.\nConnect Worldwide– Connect with meditators from around the globe as we unite in consciousness.\nFree on YouTube– Join us on our FSP YouTube Channel every Sunday at 8:00 am or 8:00 pm Pacific Standard Time.\n\nCome\, explore truth and connect with seekers worldwide for a relaxing way to start and end your day. \nSubscribe to get notified of future Satsangs. \nCheck Out the Latest Guided Meditation
URL:https://groupmeditationevent.com/event/sunday-satsang-guided-meditation/
CATEGORIES:Group Meditation Event,Online Class,Social Gathering,Yoga Practice
ATTACH;FMTTYPE=image/png:https://groupmeditationevent.com/wp-content/uploads/2024/03/Winter24_Sunday_f.png
END:VEVENT
END:VCALENDAR